View In:
ArcGIS JavaScript
ArcGIS Online Map Viewer
ArcGIS Earth
Service Description: facilities/CLMSUpperQuadDroneImagery2024
Name: facilities/CLMSUpperQuadDroneImagery2024
Description:
Single Fused Map Cache: false
Extent:
XMin: -8952527.540561527
YMin: 4471237.513986953
XMax: -8952115.04362535
YMax: 4471571.893122556
Spatial Reference: 102100
(3857)
LatestVCSWkid(0)
Initial Extent:
XMin: -8952527.540561527
YMin: 4471237.513986953
XMax: -8952115.04362535
YMax: 4471571.893122556
Spatial Reference: 102100
(3857)
LatestVCSWkid(0)
Full Extent:
XMin: -8952527.540561527
YMin: 4471237.513986953
XMax: -8952115.04362535
YMax: 4471571.893122556
Spatial Reference: 102100
(3857)
LatestVCSWkid(0)
Pixel Size X: 0.03236031506847375
Pixel Size Y: 0.03236031506852658
Band Count: 3
Pixel Type: U8
RasterFunction Infos: {"rasterFunctionInfos": [{
"name": "None",
"description": "",
"help": ""
}]}
Mensuration Capabilities: Basic
Inspection Capabilities:
Has Histograms: true
Has Colormap: false
Has Multi Dimensions : false
Rendering Rule:
Min Scale: 0
Max Scale: 0
Copyright Text:
Service Data Type: esriImageServiceDataTypeRGB
Min Values: 1, 1, 1
Max Values: 254, 254, 254
Mean Values: 127.72347614207, 126.85467679432, 116.57530716003
Standard Deviation Values: 54.051599237765, 51.896997335928, 57.276130096053
Object ID Field:
Fields:
None
Default Mosaic Method: Center
Allowed Mosaic Methods:
SortField:
SortValue: null
Mosaic Operator: First
Default Compression Quality: 75
Default Resampling Method: Bilinear
Max Record Count: null
Max Image Height: 4100
Max Image Width: 15000
Max Download Image Count: null
Max Mosaic Image Count: null
Allow Raster Function: true
Allow Copy: true
Allow Analysis: true
Allow Compute TiePoints: false
Supports Statistics: false
Supports Advanced Queries: false
Use StandardizedQueries: true
Raster Type Infos:
Name: Raster Dataset
Description: Supports all ArcGIS Raster Datasets
Help:
Has Raster Attribute Table: false
Edit Fields Info: null
Ownership Based AccessControl For Rasters: null
Child Resources:
Info
Histograms
Statistics
Key Properties
Legend
Raster Function Infos
Supported Operations:
Export Image
Identify
Measure
Compute Histograms
Compute Statistics Histograms
Get Samples
Compute Class Statistics
Query Boundary
Compute Pixel Location
Compute Angles
Validate
Project